BEGIN:VCALENDAR
VERSION:2.0
PRODID:-//Feschtkalender//feschtkalender.info//DE
CALSCALE:GREGORIAN
METHOD:PUBLISH
BEGIN:VEVENT
UID:117-kalendereintrag@feschtkalender.info
DTSTAMP:20260421T061731Z
DTSTART;TZID=Europe/Berlin:20260805T000000
DTEND;TZID=Europe/Berlin:20260827T235900
SUMMARY:Urlaubsfeeling im Neckarbogen\, Heilbronn
DESCRIPTION:Vom 5. bis 27. August 2026 betreten die schwimmenden Bühnenbretter\nimmer mittwochs jeweils um 19 Uhr bekannte Comedians. Tickets sind ab Juni im Vorverkauf erhältlich. \nDonnerstags gibt es in diesem einmaligen Ambiente ab 18:30 Uhr bei freiem Eintritt abwechslungsreiche Livemusik \, auf der Fährlebühne\nverspricht an lauen Sommerabenden echten Rundum-Genuss.\n\nLink: https://www.heilbronn.de/tourismus/veranstaltungskalender/kultur-am-fluss.html#/kultur-am-fluss/?widgetToken=_-HyWwd5aSg.&source=widget&\n\nQuelle: https://feschtkalender.info/event.php?id=117
LOCATION:Heilbronn
URL:https://feschtkalender.info/event.php?id=117
STATUS:CONFIRMED
BEGIN:VALARM
TRIGGER:-P3D
ACTION:DISPLAY
DESCRIPTION:Erinnerung: Urlaubsfeeling im Neckarbogen\, Heilbronn
END:VALARM
END:VEVENT
END:VCALENDAR