BEGIN:VCALENDAR
VERSION:2.0
PRODID:-//Feschtkalender//feschtkalender.info//DE
CALSCALE:GREGORIAN
METHOD:PUBLISH
BEGIN:VEVENT
UID:244-kalendereintrag@feschtkalender.info
DTSTAMP:20260420T093113Z
DTSTART;TZID=Europe/Berlin:20260606T000000
DTEND;TZID=Europe/Berlin:20260608T235900
SUMMARY:Feuerwehrfest Asperg
DESCRIPTION:Kinderfahrten mit dem Feuerwehrauto - Barbetrieb - ab 20 Uhr Live-Musik \n Sonntag: - Mittagstisch \nMontag Barbetrieb - ab 20 Uhr Live-Musik\n\nLink: https://www.feuerwehr-asperg.de/\n\nQuelle: https://feschtkalender.info/event.php?id=244
LOCATION:Asperg
URL:https://feschtkalender.info/event.php?id=244
STATUS:CONFIRMED
BEGIN:VALARM
TRIGGER:-P3D
ACTION:DISPLAY
DESCRIPTION:Erinnerung: Feuerwehrfest Asperg
END:VALARM
END:VEVENT
END:VCALENDAR