BEGIN:VCALENDAR
VERSION:2.0
PRODID:-//Feschtkalender//feschtkalender.info//DE
CALSCALE:GREGORIAN
METHOD:PUBLISH
BEGIN:VEVENT
UID:251-kalendereintrag@feschtkalender.info
DTSTAMP:20260420T093228Z
DTSTART;TZID=Europe/Berlin:20260530T000000
DTEND;TZID=Europe/Berlin:20260531T235900
SUMMARY:Weinkonvent Dürrenzimmern\,
DESCRIPTION:Feier mit uns beim Weinfest und genieße die besten Konvent-Weine in einer einzigartigen Sommerabend-Atmosphäre. Umrahmt von Live-Musik und der perfekte Abend\, um den Sommer in vollen Zügen zu feiern - mit Freunden\, guter Musik und feinsten Weinen. Sei dabei und lasse Dich von der festlichen Stimmung und der herzlichen Gastfreundschaft begeistern\n\nLink: https://www.imsuedenganzoben.de/de/weinfest-im-weinkonvent-duerrenzimmern_mt6180#:~:text=Feier%20mit%20uns%20beim%20Weinfest%20und%20genie%C3%9Fe\,verzaubern%2C%20w%C3%A4hrend%20Du%20leckere%20regionale%20Spezialit%C3%A4ten%20und\n\nQuelle: https://feschtkalender.info/event.php?id=251
LOCATION:Dürrenzimmern
URL:https://feschtkalender.info/event.php?id=251
STATUS:CONFIRMED
BEGIN:VALARM
TRIGGER:-P3D
ACTION:DISPLAY
DESCRIPTION:Erinnerung: Weinkonvent Dürrenzimmern\,
END:VALARM
END:VEVENT
END:VCALENDAR