BEGIN:VCALENDAR
VERSION:2.0
PRODID:-//Feschtkalender//feschtkalender.info//DE
CALSCALE:GREGORIAN
METHOD:PUBLISH
BEGIN:VEVENT
UID:288-kalendereintrag@feschtkalender.info
DTSTAMP:20260420T132942Z
DTSTART;TZID=Europe/Berlin:20260710T000000
DTEND;TZID=Europe/Berlin:20260713T235900
SUMMARY:Das Musik- und Gartenfest des Liederkranz Kornwestheim
DESCRIPTION:„Musik- und Gartenfest“ Liederkranz & Städtische Orchester am Festplatz Oßweiler Weg\nstatt. \n Es bietet üblicherweise mehrere Tage Unterhaltung mit Blasmusik\, Fassanstich und Bewirtung\n\nLink: https://www.staedtische-orchester-kornwestheim.de/\n\nQuelle: https://feschtkalender.info/event.php?id=288
LOCATION:Kornwestheim
URL:https://feschtkalender.info/event.php?id=288
STATUS:CONFIRMED
BEGIN:VALARM
TRIGGER:-P3D
ACTION:DISPLAY
DESCRIPTION:Erinnerung: Das Musik- und Gartenfest des Liederkranz Kornwestheim
END:VALARM
END:VEVENT
END:VCALENDAR