BEGIN:VCALENDAR
VERSION:2.0
PRODID:-//Feschtkalender//feschtkalender.info//DE
CALSCALE:GREGORIAN
METHOD:PUBLISH
BEGIN:VEVENT
UID:300-kalendereintrag@feschtkalender.info
DTSTAMP:20260420T132634Z
DTSTART;TZID=Europe/Berlin:20260827T000000
DTEND;TZID=Europe/Berlin:20260827T235900
SUMMARY:Möglinger Plätzle
DESCRIPTION:Sommer\, Sonne\, Möglinger Plätzle! Auch im Monat August feiern wir mit Ihnen die Freiluftsaison 2026.\n\nFür erfrischende Getränke sorgen zwei Möglinger Vereine\, Leckerbissen gibt es von einem Gewerbetreibenden. Abgerundet wird das Plätzle durch entspannte Livemusik. Lassen Sie sich überraschen!\n\nDas beliebte „Sommer am Möglinger Plätzle“-Glas ist wieder ein kleiner Beitrag für die Umwelt. Einfach mitbringen oder beim Plätzle für 2 Euro kaufen. Viel Vergnügen!\n\nLink: https://www.moeglingen.de/de/Aktuelles/Veranstaltungskalender/Veranstaltung?view=publish&item=eventDate&id=4369\n\nQuelle: https://feschtkalender.info/event.php?id=300
LOCATION:Möglingen
URL:https://feschtkalender.info/event.php?id=300
STATUS:CONFIRMED
BEGIN:VALARM
TRIGGER:-P3D
ACTION:DISPLAY
DESCRIPTION:Erinnerung: Möglinger Plätzle
END:VALARM
END:VEVENT
END:VCALENDAR