BEGIN:VCALENDAR
VERSION:2.0
PRODID:-//Feschtkalender//feschtkalender.info//DE
CALSCALE:GREGORIAN
METHOD:PUBLISH
BEGIN:VEVENT
UID:304-kalendereintrag@feschtkalender.info
DTSTAMP:20260420T132158Z
DTSTART;TZID=Europe/Berlin:20260516T000000
DTEND;TZID=Europe/Berlin:20260517T235900
SUMMARY:Spargelfest mit Werbeschau Unterriexingen
DESCRIPTION:Diese Veranstaltung kombiniert kulinarische Spargelspezialitäten mit einer Präsentation lokaler Gewerbetreibender.\n\nLink: https://www.markgroeningen.de/kultur-tourismus/veranstaltungskalender/5110/spargelfest-mit-werbeschau\n\nQuelle: https://feschtkalender.info/event.php?id=304
LOCATION:Unterriexingen
URL:https://feschtkalender.info/event.php?id=304
STATUS:CONFIRMED
BEGIN:VALARM
TRIGGER:-P3D
ACTION:DISPLAY
DESCRIPTION:Erinnerung: Spargelfest mit Werbeschau Unterriexingen
END:VALARM
END:VEVENT
END:VCALENDAR