BEGIN:VCALENDAR
VERSION:2.0
PRODID:-//Feschtkalender//feschtkalender.info//DE
CALSCALE:GREGORIAN
METHOD:PUBLISH
BEGIN:VEVENT
UID:315-kalendereintrag@feschtkalender.info
DTSTAMP:20260424T083026Z
DTSTART;TZID=Europe/Berlin:20260625T000000
DTEND;TZID=Europe/Berlin:20260625T235900
SUMMARY:Weingut Reichert Weintreff mit Livemusik\, ab 17 Uhr
DESCRIPTION:mit Livemusik\, ab 17 Uhr\n\nLink: https://weinbau-reichert.de/\n\nQuelle: https://feschtkalender.info/event.php?id=315
LOCATION:Erligheim
URL:https://feschtkalender.info/event.php?id=315
STATUS:CONFIRMED
BEGIN:VALARM
TRIGGER:-P3D
ACTION:DISPLAY
DESCRIPTION:Erinnerung: Weingut Reichert Weintreff mit Livemusik\, ab 17 Uhr
END:VALARM
END:VEVENT
END:VCALENDAR