BEGIN:VCALENDAR
VERSION:2.0
PRODID:-//Feschtkalender//feschtkalender.info//DE
CALSCALE:GREGORIAN
METHOD:PUBLISH
BEGIN:VEVENT
UID:318-kalendereintrag@feschtkalender.info
DTSTAMP:20260420T132701Z
DTSTART;TZID=Europe/Berlin:20260516T000000
DTEND;TZID=Europe/Berlin:20260516T235900
SUMMARY:Frühlingsrausch Festival in Kleinsachenheim
DESCRIPTION:Einlass: ab 18 Uhr\, ab 16 Jahren (nach 24 Uhr nur mit Personenfürsorgeübertragung).\nDresscode: Festival-Look erwünscht – bunt\, laut\, frei! Highlight: Stündliche Specials und Überraschungs-Acts. Unser Line-Up an den Decks serviert euch den perfekten Soundtrack: Von treibenden House-Beats über Urban Vibes bis hin zu den Klassikern\, die jeder mitsingen kann. Tanz den Winterschlaf einfach weg!\n\nLink: https://www.facebook.com/photo/?fbid=1208893478114106&set=gm.1455280839327143&locale=nl_BE\n\nQuelle: https://feschtkalender.info/event.php?id=318
LOCATION:Kleinsachsenheim
URL:https://feschtkalender.info/event.php?id=318
STATUS:CONFIRMED
BEGIN:VALARM
TRIGGER:-P3D
ACTION:DISPLAY
DESCRIPTION:Erinnerung: Frühlingsrausch Festival in Kleinsachenheim
END:VALARM
END:VEVENT
END:VCALENDAR