BEGIN:VCALENDAR
VERSION:2.0
PRODID:-//Feschtkalender//feschtkalender.info//DE
CALSCALE:GREGORIAN
METHOD:PUBLISH
BEGIN:VEVENT
UID:323-kalendereintrag@feschtkalender.info
DTSTAMP:20260420T132455Z
DTSTART;TZID=Europe/Berlin:20261003T000000
DTEND;TZID=Europe/Berlin:20261003T235900
SUMMARY:Feschtle - Weinausschank im Hof in Hessigheim
DESCRIPTION:Essen und Trinken hält Leib und Seele zusammen: Wir halten es mit dem griechischen Philosophen Sokrates.\n\nFür das leibliche Wohl sorgt die Familie Langenecker am „Ständle“. Unsere Weine mit der goldenen Eidechse werden selbstverständlich ebenfalls ausgeschenkt.\n\nLink: https://felsengartenkellerei.de/erlebnis/ausschank-im-hof/\n\nQuelle: https://feschtkalender.info/event.php?id=323
LOCATION:Hessigheim
URL:https://feschtkalender.info/event.php?id=323
STATUS:CONFIRMED
BEGIN:VALARM
TRIGGER:-P3D
ACTION:DISPLAY
DESCRIPTION:Erinnerung: Feschtle - Weinausschank im Hof in Hessigheim
END:VALARM
END:VEVENT
END:VCALENDAR