BEGIN:VCALENDAR
VERSION:2.0
PRODID:-//Feschtkalender//feschtkalender.info//DE
CALSCALE:GREGORIAN
METHOD:PUBLISH
BEGIN:VEVENT
UID:325-kalendereintrag@feschtkalender.info
DTSTAMP:20260420T132213Z
DTSTART;TZID=Europe/Berlin:20260925T000000
DTEND;TZID=Europe/Berlin:20260927T235900
SUMMARY:Kelterfest Kirchheim
DESCRIPTION:Musikverein "Harmonie\, feiert ein Weinfest in und um die Alte Kelter mit Fassanstich\, Laternenumzug am und Stimmungsabend am Samstag sowie musikalischen Highlights am Sonntag. Kulinarische Köstlichkeiten gibt es an beiden Tagen.\n\nLink: https://www.mv-kirchheim.de/\n\nQuelle: https://feschtkalender.info/event.php?id=325
LOCATION:Kirchheim a. N.
URL:https://feschtkalender.info/event.php?id=325
STATUS:CONFIRMED
BEGIN:VALARM
TRIGGER:-P3D
ACTION:DISPLAY
DESCRIPTION:Erinnerung: Kelterfest Kirchheim
END:VALARM
END:VEVENT
END:VCALENDAR