BEGIN:VCALENDAR
VERSION:2.0
PRODID:-//Feschtkalender//feschtkalender.info//DE
CALSCALE:GREGORIAN
METHOD:PUBLISH
BEGIN:VEVENT
UID:326-kalendereintrag@feschtkalender.info
DTSTAMP:20260420T132812Z
DTSTART;TZID=Europe/Berlin:20260613T000000
DTEND;TZID=Europe/Berlin:20260613T235900
SUMMARY:25 Jahre SV Walheim
DESCRIPTION:Samstag 13.06.2026. Auf der Burg\, veranstalten wir die mittlerweile 10. Jahrgangshocketse. Nähere Informationen (Tischreservierungsmöglichkeiten usw.) folgen in Kürze.\n\nLink: https://svwalheim.de/\n\nQuelle: https://feschtkalender.info/event.php?id=326
LOCATION:Walheim
URL:https://feschtkalender.info/event.php?id=326
STATUS:CONFIRMED
BEGIN:VALARM
TRIGGER:-P3D
ACTION:DISPLAY
DESCRIPTION:Erinnerung: 25 Jahre SV Walheim
END:VALARM
END:VEVENT
END:VCALENDAR