BEGIN:VCALENDAR
VERSION:2.0
PRODID:-//Feschtkalender//feschtkalender.info//DE
CALSCALE:GREGORIAN
METHOD:PUBLISH
BEGIN:VEVENT
UID:327-kalendereintrag@feschtkalender.info
DTSTAMP:20260420T132516Z
DTSTART;TZID=Europe/Berlin:20260724T000000
DTEND;TZID=Europe/Berlin:20260726T235900
SUMMARY:Freudentaler Weinsommer
DESCRIPTION:Wir haben mit der Planung begonnen. Im Sommer findet das von uns ins Leben gerufene 3-tägige „Weinsommer“-Fest auf unserem Grundstück statt. \n\nWeitere Infos folgen\n\nLink: https://stromberg-freudental.de/events/\n\nQuelle: https://feschtkalender.info/event.php?id=327
LOCATION:Freudental
URL:https://feschtkalender.info/event.php?id=327
STATUS:CONFIRMED
BEGIN:VALARM
TRIGGER:-P3D
ACTION:DISPLAY
DESCRIPTION:Erinnerung: Freudentaler Weinsommer
END:VALARM
END:VEVENT
END:VCALENDAR