BEGIN:VCALENDAR
VERSION:2.0
PRODID:-//Feschtkalender//feschtkalender.info//DE
CALSCALE:GREGORIAN
METHOD:PUBLISH
BEGIN:VEVENT
UID:329-kalendereintrag@feschtkalender.info
DTSTAMP:20260420T131657Z
DTSTART;TZID=Europe/Berlin:20260912T000000
DTEND;TZID=Europe/Berlin:20260914T235900
SUMMARY:Gemmrigheimer Herbst
DESCRIPTION:Der Gemmrigheimer Herbst feiert regionale Weine aus Gemmrigheim und Umgebung mit herbstlicher Atmosphäre\, Musik und regionalen Köstlichkeiten - ein Fest für Weinliebhaber und Genießer.\n\nLink: https://www.musikverein-gemmrigheim.de/\n\nQuelle: https://feschtkalender.info/event.php?id=329
LOCATION:Gemmrigheim
URL:https://feschtkalender.info/event.php?id=329
STATUS:CONFIRMED
BEGIN:VALARM
TRIGGER:-P3D
ACTION:DISPLAY
DESCRIPTION:Erinnerung: Gemmrigheimer Herbst
END:VALARM
END:VEVENT
END:VCALENDAR