BEGIN:VCALENDAR
VERSION:2.0
PRODID:-//Feschtkalender//feschtkalender.info//DE
CALSCALE:GREGORIAN
METHOD:PUBLISH
BEGIN:VEVENT
UID:330-kalendereintrag@feschtkalender.info
DTSTAMP:20260420T180021Z
DTSTART;TZID=Europe/Berlin:20261031T000000
DTEND;TZID=Europe/Berlin:20261031T235900
SUMMARY:Kellerween - DIE Party mit dem Gruselfaktor
DESCRIPTION:Kellerween - DIE Party mit dem Gruselfaktor\nSamstag\, 31. Oktober 2026·20:00 bis 23:59\nMVG-Keller Gemmrigheim\n\nLink: https://www.musikverein-gemmrigheim.de/termine/\n\nQuelle: https://feschtkalender.info/event.php?id=330
LOCATION:Gemmrigheim
URL:https://feschtkalender.info/event.php?id=330
STATUS:CONFIRMED
BEGIN:VALARM
TRIGGER:-P3D
ACTION:DISPLAY
DESCRIPTION:Erinnerung: Kellerween - DIE Party mit dem Gruselfaktor
END:VALARM
END:VEVENT
END:VCALENDAR