BEGIN:VCALENDAR
VERSION:2.0
PRODID:-//Feschtkalender//feschtkalender.info//DE
CALSCALE:GREGORIAN
METHOD:PUBLISH
BEGIN:VEVENT
UID:331-kalendereintrag@feschtkalender.info
DTSTAMP:20260420T131813Z
DTSTART;TZID=Europe/Berlin:20260619T000000
DTEND;TZID=Europe/Berlin:20260621T235900
SUMMARY:Kirchheimer Straßenfest rockt!
DESCRIPTION:Besucher erwartet ein abwechslungsreiches Programm mit kulinarischen Angeboten\, musikalischer Unterhaltung und einer festlichen Atmosphäre für die ganze Familie. Eröffnung um 18.00 Uhr an der Bühne auf dem Schillerplatz. Ausschank bis 2.00 Uhr.\n\nLink: https://www.kirchheim-neckar.de/eventcalendar?action=view_event&event_id=516\n\nQuelle: https://feschtkalender.info/event.php?id=331
LOCATION:Kirchheim a. N.
URL:https://feschtkalender.info/event.php?id=331
STATUS:CONFIRMED
BEGIN:VALARM
TRIGGER:-P3D
ACTION:DISPLAY
DESCRIPTION:Erinnerung: Kirchheimer Straßenfest rockt!
END:VALARM
END:VEVENT
END:VCALENDAR