BEGIN:VCALENDAR
VERSION:2.0
PRODID:-//Feschtkalender//feschtkalender.info//DE
CALSCALE:GREGORIAN
METHOD:PUBLISH
BEGIN:VEVENT
UID:332-kalendereintrag@feschtkalender.info
DTSTAMP:20260420T130852Z
DTSTART;TZID=Europe/Berlin:20260925T000000
DTEND;TZID=Europe/Berlin:20260927T235900
SUMMARY:Kelterfest mit Hopfensitz Walheim
DESCRIPTION:Musikverein Walheim\, unser bewährtes traditionelles Kelterfest geht in eine weitere Runde. Bei leckeren Speisen erwartet Sie am Samstag ein Stimmungsabend für Jung und Alt sowie am Sonntag ein ökumenischer Gottesdienst\, Weißwurstfrühstück\, Kaffee und Kuchen und natürlich Blasmusik pur.\n\nLink: https://musikvereinwalheim.de/aktuelles/veranstaltungen/\n\nQuelle: https://feschtkalender.info/event.php?id=332
LOCATION:Walheim
URL:https://feschtkalender.info/event.php?id=332
STATUS:CONFIRMED
BEGIN:VALARM
TRIGGER:-P3D
ACTION:DISPLAY
DESCRIPTION:Erinnerung: Kelterfest mit Hopfensitz Walheim
END:VALARM
END:VEVENT
END:VCALENDAR