BEGIN:VCALENDAR
VERSION:2.0
PRODID:-//Feschtkalender//feschtkalender.info//DE
CALSCALE:GREGORIAN
METHOD:PUBLISH
BEGIN:VEVENT
UID:334-kalendereintrag@feschtkalender.info
DTSTAMP:20260420T131858Z
DTSTART;TZID=Europe/Berlin:20260718T000000
DTEND;TZID=Europe/Berlin:20260719T235900
SUMMARY:Weingut im Klee Golters 80er 90er Part in Ilsfeld
DESCRIPTION:Feiert mit uns auf der 80er und 90er Party einen Ausflug in die Vergangenheit! Macht euch bereit\, die Nacht zu all euren Lieblingshits aus den 80ern und 90ern durchzutanzen.\nSchnapp dir deine Freunde und lass die glorreichen Zeiten von MTV und Kassetten wieder aufleben.\n\nBest of 80s & 90s: Von Synthie-Pop und Rockhymnen bis zu Eurodance und Hip-Hop-Classics – unsere DJs bringen die größten Hits zurück auf die Tanzfläche!\nDresscode: Pack die Baggy Jeans\, Neon-Leggings oder deine Schlaghosen aus. Alles kann - nichts muss!\n\nLink: https://www.weingut-golter.de/veranstaltungen/\n\nQuelle: https://feschtkalender.info/event.php?id=334
LOCATION:Ilsfeld
URL:https://feschtkalender.info/event.php?id=334
STATUS:CONFIRMED
BEGIN:VALARM
TRIGGER:-P3D
ACTION:DISPLAY
DESCRIPTION:Erinnerung: Weingut im Klee Golters 80er 90er Part in Ilsfeld
END:VALARM
END:VEVENT
END:VCALENDAR