BEGIN:VCALENDAR
VERSION:2.0
PRODID:-//Feschtkalender//feschtkalender.info//DE
CALSCALE:GREGORIAN
METHOD:PUBLISH
BEGIN:VEVENT
UID:335-kalendereintrag@feschtkalender.info
DTSTAMP:20260420T132037Z
DTSTART;TZID=Europe/Berlin:20260807T000000
DTEND;TZID=Europe/Berlin:20260810T235900
SUMMARY:Sommerfest Uff'm Scheuraboda im Weingut Brackenheim
DESCRIPTION:Sommerfest im Weingut Brackenheim | 07.-10. August 2026\nVier Tage voller Wein\, Musik\, Leckereien & Lebensfreude mitten im Weingut.\nLive-Musik:\nFreitag: Arrowhead (Classic Rock)\nSamstag: SIE & WIR\nSonntag: Musikverein Mittelstadt (ab 12 Uhr)\nMontag: B.O.N\nFood & Drinks:\n\n die neuen Weinabfüllungen 2025\n kulinarisch: Flammkuchen\, Grillgut\, Salate\, Pommes & mehr\n\nÖffnungszeiten:\nFreitag & Samstag: ab 16 Uhr\nSonntag: ab 11 Uhr \nMontag: ab 17 Uhr\n\nLink: http://winkler-weingut.de/weingut/\n\nQuelle: https://feschtkalender.info/event.php?id=335
LOCATION:Brackenheim
URL:https://feschtkalender.info/event.php?id=335
STATUS:CONFIRMED
BEGIN:VALARM
TRIGGER:-P3D
ACTION:DISPLAY
DESCRIPTION:Erinnerung: Sommerfest Uff'm Scheuraboda im Weingut Brackenheim
END:VALARM
END:VEVENT
END:VCALENDAR