BEGIN:VCALENDAR
VERSION:2.0
PRODID:-//Feschtkalender//feschtkalender.info//DE
CALSCALE:GREGORIAN
METHOD:PUBLISH
BEGIN:VEVENT
UID:336-kalendereintrag@feschtkalender.info
DTSTAMP:20260420T132353Z
DTSTART;TZID=Europe/Berlin:20260523T000000
DTEND;TZID=Europe/Berlin:20260525T235900
SUMMARY:Weinfest an Pfingsten in Steinheim
DESCRIPTION:Das Weinfest auf dem Bio-Weingut Forsthof in Steinheim/Kleinbottwar findet über Pfingsten vom 23. bis 25. Mai 2026 statt. Das Fest bietet Bio-Weine\, kulinarische Leckereien\, Live-Musik und eine gemütliche Atmosphäre im Weingut\, was es zu einem beliebten Treffpunkt in der Region macht.\n\nLink: https://www.weingut-forsthof.com/\n\nQuelle: https://feschtkalender.info/event.php?id=336
LOCATION:Steinheim
URL:https://feschtkalender.info/event.php?id=336
STATUS:CONFIRMED
BEGIN:VALARM
TRIGGER:-P3D
ACTION:DISPLAY
DESCRIPTION:Erinnerung: Weinfest an Pfingsten in Steinheim
END:VALARM
END:VEVENT
END:VCALENDAR