BEGIN:VCALENDAR
VERSION:2.0
PRODID:-//Feschtkalender//feschtkalender.info//DE
CALSCALE:GREGORIAN
METHOD:PUBLISH
BEGIN:VEVENT
UID:342-kalendereintrag@feschtkalender.info
DTSTAMP:20260420T131851Z
DTSTART;TZID=Europe/Berlin:20260626T000000
DTEND;TZID=Europe/Berlin:20260629T235900
SUMMARY:54. Backnanger Straßenfest
DESCRIPTION:„Koi Zeit – Stroßafescht!“ heißt es wieder\, wenn die historische Backnanger Innenstadt vier Tage und drei Nächte lang für alle Backnangerinnen und Backnanger zum Zentrum des Lebens wird. Backnang feiert das älteste und größte Straßenfest im kommenden Jahr bereits zum 53. Mal. Auf insgesamt sechs Bühnen reicht der spannende Mix von traditioneller Blasmusik über Schlager\, Rock & Pop bis Elektro. Weitere Informationen zu den zahlreichen Programmpunkten erhalten Sie hier.\n\nLink: https://www.backnanger-strassenfest.de/start\n\nQuelle: https://feschtkalender.info/event.php?id=342
LOCATION:Backnang
URL:https://feschtkalender.info/event.php?id=342
STATUS:CONFIRMED
BEGIN:VALARM
TRIGGER:-P3D
ACTION:DISPLAY
DESCRIPTION:Erinnerung: 54. Backnanger Straßenfest
END:VALARM
END:VEVENT
END:VCALENDAR