BEGIN:VCALENDAR
VERSION:2.0
PRODID:-//Feschtkalender//feschtkalender.info//DE
CALSCALE:GREGORIAN
METHOD:PUBLISH
BEGIN:VEVENT
UID:344-kalendereintrag@feschtkalender.info
DTSTAMP:20260420T131947Z
DTSTART;TZID=Europe/Berlin:20260619T000000
DTEND;TZID=Europe/Berlin:20260622T235900
SUMMARY:50. Zuffenhäuser Fleckenfest in Stuttgart
DESCRIPTION:Freitagabend\, beginnt das Fest. Das ganze Wochenende über mit Live-Musik und Disko. Der Vergnügungspark lädt bereits ab Freitag alle abenteuerlustigen Gäste ein.\nSamstag\, ab 12:00 Uhr der Fassanstich auf der Bühne in der Marbacher Straße. Es sind musikalische Auftritte von Cover-Bands\, die Live-Musik spielen. \nAm Sonntag wird Flohmarkt von 12:00 – 17:00 Uhr veranstaltet. \nreitag\, 19.06.2026\, 16:00 – 22:00 Uhr\nSamstag\, 20.06.2026\, 12:00 – 23:00 Uhr\nSonntag\, 21.06.2026\, 11:00 – 19:00 Uhr\nMontag\, 22.06.2026\, 14:00 – 17:00 Uhr\n\nLink: https://www.ssv-zuffenhausen.de/\n\nQuelle: https://feschtkalender.info/event.php?id=344
LOCATION:Stuttgart
URL:https://feschtkalender.info/event.php?id=344
STATUS:CONFIRMED
BEGIN:VALARM
TRIGGER:-P3D
ACTION:DISPLAY
DESCRIPTION:Erinnerung: 50. Zuffenhäuser Fleckenfest in Stuttgart
END:VALARM
END:VEVENT
END:VCALENDAR