BEGIN:VCALENDAR
VERSION:2.0
PRODID:-//Feschtkalender//feschtkalender.info//DE
CALSCALE:GREGORIAN
METHOD:PUBLISH
BEGIN:VEVENT
UID:347-kalendereintrag@feschtkalender.info
DTSTAMP:20260420T132004Z
DTSTART;TZID=Europe/Berlin:20260604T000000
DTEND;TZID=Europe/Berlin:20260604T235900
SUMMARY:Sundowner deluxe auf Burg Settenfels
DESCRIPTION:Eintritt frei\, 04. Juni – 18.00 Uhr – 22.00 Uhr\nSonnenuntergang mit Chillout music\, Liegestühlen\, Cocktails\, DJ und leckerem Essen in einem der schönsten Biergärten Deutschlands.\nAb 18.00 Uhr legt DJ Paulo Estefan auf und sorgt für den chilligen Sundowner auf Burg Stettenfels\n\nLink: https://burg-stettenfels.de/de/kultur-und-events.php\n\nQuelle: https://feschtkalender.info/event.php?id=347
LOCATION:Untergruppenbach
URL:https://feschtkalender.info/event.php?id=347
STATUS:CONFIRMED
BEGIN:VALARM
TRIGGER:-P3D
ACTION:DISPLAY
DESCRIPTION:Erinnerung: Sundowner deluxe auf Burg Settenfels
END:VALARM
END:VEVENT
END:VCALENDAR