BEGIN:VCALENDAR
VERSION:2.0
PRODID:-//Feschtkalender//feschtkalender.info//DE
CALSCALE:GREGORIAN
METHOD:PUBLISH
BEGIN:VEVENT
UID:351-kalendereintrag@feschtkalender.info
DTSTAMP:20260420T131813Z
DTSTART;TZID=Europe/Berlin:20260524T000000
DTEND;TZID=Europe/Berlin:20260525T235900
SUMMARY:Hoffest Erbeer- und Spargelfest in Kleinsachenheim
DESCRIPTION:Sonntag um 10.30 Uhr Eröffnungsgottesdienst mit einem Gospel Chor\nPfingstmontag Festbeginn ab 11 Uhr\nAn beiden Tagen Programm:\nRegionaler Markt\nu. a. Spargelgerichte\, Kuchen & Eis\, Kinderprogramm mit einem Highlight\nHofladen an beiden Tagen bis 17 Uhr geöffnet\nSonntag Abend ab 18 Uhr Musik mit DJ\nEssen vom Naturparkhotel & Landgasthof Stromberg\n\nLink: https://www.facebook.com/ErdbeerSchmid\n\nQuelle: https://feschtkalender.info/event.php?id=351
LOCATION:Kleinsachsenheim
URL:https://feschtkalender.info/event.php?id=351
STATUS:CONFIRMED
BEGIN:VALARM
TRIGGER:-P3D
ACTION:DISPLAY
DESCRIPTION:Erinnerung: Hoffest Erbeer- und Spargelfest in Kleinsachenheim
END:VALARM
END:VEVENT
END:VCALENDAR