BEGIN:VCALENDAR
VERSION:2.0
PRODID:-//Feschtkalender//feschtkalender.info//DE
CALSCALE:GREGORIAN
METHOD:PUBLISH
BEGIN:VEVENT
UID:401-kalendereintrag@feschtkalender.info
DTSTAMP:20260421T062643Z
DTSTART;TZID=Europe/Berlin:20260424T000000
DTEND;TZID=Europe/Berlin:20260425T235900
SUMMARY:Bierausschank der Bruderschaft Besigheim
DESCRIPTION:Beim Gläsle im Sträßle gibt es nicht nur Wein sondern zum Glück auch BIER.\nund am Samstag gibt es Straßenmusik von der Band keine Schönheit. Keine-Schönheit\n\nLink: https://www.facebook.com/photo/?fbid=3182074455286509&set=gm.1283570070643767\n\nQuelle: https://feschtkalender.info/event.php?id=401
LOCATION:Besigheim
URL:https://feschtkalender.info/event.php?id=401
STATUS:CONFIRMED
BEGIN:VALARM
TRIGGER:-P3D
ACTION:DISPLAY
DESCRIPTION:Erinnerung: Bierausschank der Bruderschaft Besigheim
END:VALARM
END:VEVENT
END:VCALENDAR