BEGIN:VCALENDAR
VERSION:2.0
PRODID:-//Feschtkalender//feschtkalender.info//DE
CALSCALE:GREGORIAN
METHOD:PUBLISH
BEGIN:VEVENT
UID:402-kalendereintrag@feschtkalender.info
DTSTAMP:20260422T200513Z
DTSTART;TZID=Europe/Berlin:20260501T000000
DTEND;TZID=Europe/Berlin:20260503T235900
SUMMARY:Hoffest Schnurr in Hessigheim
DESCRIPTION:1. Mai Hoffest am 01.05.2026 und 03.05.2026 ab 11.00 Uhr\nRote Wurst\, Schnitzel\, Bauch\, Hals\, Kartoffelsalat\, Pommes und viele weitere Leckereien (keine Spargelgerichte)\nEigener Wein\, Zötler Bier vom Fass und alkoholfreie Getränke\nKaffee -und Kuchenverkauf\nLivemusik mit dem Enztalecho\n\nLink: https://www.fasanenhof-hessigheim.de/termine/\n\nQuelle: https://feschtkalender.info/event.php?id=402
LOCATION:Hessigheim
URL:https://feschtkalender.info/event.php?id=402
STATUS:CONFIRMED
BEGIN:VALARM
TRIGGER:-P3D
ACTION:DISPLAY
DESCRIPTION:Erinnerung: Hoffest Schnurr in Hessigheim
END:VALARM
END:VEVENT
END:VCALENDAR