BEGIN:VCALENDAR
VERSION:2.0
PRODID:-//Feschtkalender//feschtkalender.info//DE
CALSCALE:GREGORIAN
METHOD:PUBLISH
BEGIN:VEVENT
UID:405-kalendereintrag@feschtkalender.info
DTSTAMP:20260424T044254Z
DTSTART;TZID=Europe/Berlin:20260604T000000
DTEND;TZID=Europe/Berlin:20260604T235900
SUMMARY:Bottwartaler Winzer eG  Großbottwar
DESCRIPTION:Datum 04.06.2026 Uhrzeit 17:00 - 22:0\nDie Bottwartaler Winzer laden Sie zu einem Sommerabend auf den Hof der Kellerei ein. Genießen Sie Ihren Feierabend bei feinen Weinen\, kleinen Leckereien und Live-Band. Ab 17 Uhr. Weitere Infos gibt es hier.\n\nLink: https://www.bottwartalerwinzer.de/events/hello-weekend-4-668-174-419-603-695-951-432-107/\n\nQuelle: https://feschtkalender.info/event.php?id=405
LOCATION:Großbottwar
URL:https://feschtkalender.info/event.php?id=405
STATUS:CONFIRMED
BEGIN:VALARM
TRIGGER:-P3D
ACTION:DISPLAY
DESCRIPTION:Erinnerung: Bottwartaler Winzer eG  Großbottwar
END:VALARM
END:VEVENT
END:VCALENDAR