BEGIN:VCALENDAR
VERSION:2.0
PRODID:-//Feschtkalender//feschtkalender.info//DE
CALSCALE:GREGORIAN
METHOD:PUBLISH
BEGIN:VEVENT
UID:408-kalendereintrag@feschtkalender.info
DTSTAMP:20260424T043029Z
DTSTART;TZID=Europe/Berlin:20260716T000000
DTEND;TZID=Europe/Berlin:20260716T235900
SUMMARY:Sundowner After Work  Marbach a.N.
DESCRIPTION:Die Weingärtner Marbach laden wieder zu einem entspannten After Work an ihre Kelter ein. Freuen Sie sich auf ein gemütliches Glas Wein mit Live-Musik\, Food-Trucks und Blick ins Grüne. Ab 17 Uhr. Weitere Infos gibt es hier.\n\nLink: https://www.weingaertner-marbach.de/wp-content/uploads/2026/03/Eventkalender_Weingaertner_Marbach_2026.pdf\n\nQuelle: https://feschtkalender.info/event.php?id=408
LOCATION:Marbach a.N.
URL:https://feschtkalender.info/event.php?id=408
STATUS:CONFIRMED
BEGIN:VALARM
TRIGGER:-P3D
ACTION:DISPLAY
DESCRIPTION:Erinnerung: Sundowner After Work  Marbach a.N.
END:VALARM
END:VEVENT
END:VCALENDAR